BEGIN:VCALENDAR
VERSION:2.0
PRODID:-//Conecta Iberoamérica - ECPv6.0.13.1//NONSGML v1.0//EN
CALSCALE:GREGORIAN
METHOD:PUBLISH
X-WR-CALNAME:Conecta Iberoamérica
X-ORIGINAL-URL:https://conectaiberoamerica.com
X-WR-CALDESC:Events for Conecta Iberoamérica
REFRESH-INTERVAL;VALUE=DURATION:PT1H
X-Robots-Tag:noindex
X-PUBLISHED-TTL:PT1H
BEGIN:VTIMEZONE
TZID:Europe/Madrid
BEGIN:DAYLIGHT
TZOFFSETFROM:+0100
TZOFFSETTO:+0200
TZNAME:CEST
DTSTART:20240331T010000
END:DAYLIGHT
BEGIN:STANDARD
TZOFFSETFROM:+0200
TZOFFSETTO:+0100
TZNAME:CET
DTSTART:20241027T010000
END:STANDARD
END:VTIMEZONE
BEGIN:VEVENT
DTSTART;TZID=Europe/Madrid:20240112T200000
DTEND;TZID=Europe/Madrid:20240112T210000
DTSTAMP:20260424T175950
CREATED:20240108T211254Z
LAST-MODIFIED:20240108T224116Z
UID:5827-1705089600-1705093200@conectaiberoamerica.com
SUMMARY:Webinar "Conoce nuestra experiencia con las becas de Fundación Carolina"
DESCRIPTION:Participa de este Webinar y conoce cual ha sido nuestra experiencia en una de las Convocatorias de becas más prestigiosas.\n  \n¿Sabías que el 90% de los más de 1\,300 miembros de nuestra red\, somos ex becarios de Fundación Carolina?  \n  \nEsta es una de las instituciones insignias de la cooperación española\, que más ofrece becas de estudios en España para jóvenes y profesionales de América Latina. \nDesde maestrías\, doctorados\, cursos de verano o el Programa de Jóvenes Líderes Iberoamericanos\, son varios los Programas de los que hemos sido beneficiarios\, una oportunidad que ha hecho que contemos con perfiles profesionales más competitivos. \nPara la gran mayoría de nosotros\, las becas de Fundación Carolina ha sido una de las experiencias personales y profesionales más transformadoras\, y es por ello\, que queremos compartir lo que hemos aprendido sobre el proceso de aplicación\, aspectos básicos a tener en cuenta una vez ganemos la beca y consejos prácticos sobre vivir en España para aprovechar al máximo esta oportunidad. \n  \nFecha y Horario: \nViernes\, 12 de enero. \nHorario: 20h Madrid | 13h CDMX | 14h Lima\, Bogotá\, Quito | 16h Bs. Aires \n \nSobre Conecta Iberoamérica:\nSomos una organización internacional que conecta al mejor talento de la región con oportunidades profesionales de alto potencial. Somos 1\,300 profesionales top talent y jóvenes líderes de 22 países\, con trayectorias destacadas en nuestros respectivos sectores\, que trabajamos en proyectos de impacto en la región iberoamericana.\n  \nUn Webinar impartido por:  \n \nANDREA QUINTERO ( Colombia) \nPeriodista multimedia y ex becaria de Fundación Carolina en el Máster Realización y Diseño de formatos audiovisuales\, de la Universidad Complutense de Madrid.  \n  \n \nVALENTINA MIRRA ( Argentina) \nMáster en Gobernanza y Derechos Humanos. Fue pasante de la Comisión Interamericana de Derechos Humanos (CIDH). Ex becaria de Fundación Carolina del Programa de Jóvenes Líderes Iberoamericanos. \n  \nSi te interesa saber más sobre el mundo de las becas y cómo acceder a ellas\, inscríbete en nuestro super Programa formativo de 10 horas: CAMPUS BECAS en ESTE ENLACE. \n 
URL:https://conectaiberoamerica.com/event/webinar-fundacion-carolina
CATEGORIES:Webinars
ATTACH;FMTTYPE=image/png:https://conectaiberoamerica.com/wp-content/uploads/2024/01/Webinar-Becas-.png
END:VEVENT
END:VCALENDAR