BEGIN:VCALENDAR
VERSION:2.0
PRODID:-//Conecta Iberoamérica - ECPv6.0.13.1//NONSGML v1.0//EN
CALSCALE:GREGORIAN
METHOD:PUBLISH
X-WR-CALNAME:Conecta Iberoamérica
X-ORIGINAL-URL:https://conectaiberoamerica.com
X-WR-CALDESC:Events for Conecta Iberoamérica
REFRESH-INTERVAL;VALUE=DURATION:PT1H
X-Robots-Tag:noindex
X-PUBLISHED-TTL:PT1H
BEGIN:VTIMEZONE
TZID:Europe/Madrid
BEGIN:DAYLIGHT
TZOFFSETFROM:+0100
TZOFFSETTO:+0200
TZNAME:CEST
DTSTART:20220327T010000
END:DAYLIGHT
BEGIN:STANDARD
TZOFFSETFROM:+0200
TZOFFSETTO:+0100
TZNAME:CET
DTSTART:20221030T010000
END:STANDARD
BEGIN:DAYLIGHT
TZOFFSETFROM:+0100
TZOFFSETTO:+0200
TZNAME:CEST
DTSTART:20230326T010000
END:DAYLIGHT
BEGIN:STANDARD
TZOFFSETFROM:+0200
TZOFFSETTO:+0100
TZNAME:CET
DTSTART:20231029T010000
END:STANDARD
END:VTIMEZONE
BEGIN:VEVENT
DTSTART;TZID=Europe/Madrid:20230510T180000
DTEND;TZID=Europe/Madrid:20230510T190000
DTSTAMP:20260424T133855
CREATED:20230507T215800Z
LAST-MODIFIED:20230508T103816Z
UID:4317-1683741600-1683745200@conectaiberoamerica.com
SUMMARY:Grow & Flow | "Introducción a los primeros auxilios psicológicos"
DESCRIPTION:¡Un espacio dedicado al bienestar y al desarrollo personal!\n\n\n\nSeguramente en alguna ocasión hemos tenido que convivir en nuestro entorno\, con personas que han afrontado alguna situación de crisis en la gestión de sus emociones. Poder identificar estas situaciones y aportar ayuda de forma oportuna y efectiva\, puede suponer un cambio significativo en la vida de familiares\, amigos o colegas de trabajo.\n  \nLos Primeros Auxilios Psicológicos (PAP)\, es la estrategia que se aplica en el momento de una crisis\, con el objetivo de estabilizar y mitigar el malestar emocional agudo ocasionado por la misma\, promover el funcionamiento adaptativo y las habilidades de afrontamiento; y conectar con los recursos de ayuda pertinentes. (Everly & Lating\, 2017). \n\nEn esta sesión a cargo de Fundación Amarc\, estaremos compartiendo un espacio de educación emocional\, dónde inicialmente haremos una reflexión sobre las emociones y su función en nuestra vida. Para luego aprender sobre la crisis y algunas herramientas para darle manejo\, como abordaje inicial de los primeros auxilios psicológicos. \n  \n\n\n \n“La Fundación AmarC\, se ha convertido en el punto de encuentro de jóvenes y adultos que buscan generar estrategias de prevención en salud mental. Por medio de programas de atención psicoterapéutica y psicosocial desde la atención primaria\, la teoría de las inteligencias múltiples y los intereses de cada usuario\, potenciamos la salud mental basada en la comunidad buscando un aumento significativo en la calidad de vida. Es así que en AmarC\, generamos acciones enfocadas en la reducción de la brecha entre las personas con riesgo de trastornos mentales y el número de usuarios que reciben atención\, a su vez\, reducimos la carga que producen los trastornos mentales para las personas que los sufren\, sus familias y la sociedad en general. Tenemos como objetivo promover y realizar proyectos\, programas y actividades integrales para la sociedad basados en los Derechos Humanos. Lo anterior con especial énfasis en actividades que propendan por la salud mental de las personas que opten en acudir a la Fundación y de la población en general. Es por esto que la Fundación persigue fines de beneficencia\, interés o utilidad común y el mejoramiento de la calidad de vida\, el bienestar\, interés social\, cultural y de investigación”. \n  \nImpartida por una gran experta:\n\n  \n\n\n\nDaniela Cuervo\, Psicóloga clínica y de la salud – Lider de Formación en Primeros auxilios psicológicos de Fundación AmarC. \n\n\n  \nFecha: miércoles\, 10 de mayo \nHorario: 18h Madrid | 10h CDMX | 11h Bogotá\, Quito\, Lima | 13h Buenos Aires \n\n\nInscríbete Aquí:\n\n                \n                        Nombre y Apellidos*\n                            \n                            \n                                                    \n                                                    Nombre\n                                                \n                            \n                            \n                                                    \n                                                    Apellidos\n                                                \n                            \n                        Email*\n                            \n                        País:Política de Protección de Datos* He leído y estoy de acuerdo con la política de protección de datosDe acuerdo con lo que dispone la normativa vigente en materia de protección de datos personales (Reglamento (UE) 2016/679 de 27 de abril de 2016 (RGPD)\, Ley Orgánica 15/1999 de 13 de diciembre\, de Protección de Datos de Carácter Personal\, y el Real Decreto 1720/2007\, de desarrollo de la LOPD\, le informamos que sus datos personales están incorporados en un fichero bajo nuestra responsabilidad\, para el tratamiento de datos de carácter personal\, con la finalidad de informarle de los eventos\, noticias\, novedades\, de Conecta Iberoamérica. Vd. como interesado directo\, tiene derecho de acceso\, rectificación\, cancelación y oposición al tratamiento de la información que le concierne y autoriza a que se pase a formar parte del fichero\, ante el cual puede ejercitar sus derechos y recibir información y publicidad de nuestra asociación\, relacionada con cualquier sector de actividad ya que nuestra actividad principal es dar soporte e información de toda índole a las microempresas\, sean o no asociadas.  Los derechos precitados podrán hacerse efectivos ante la Red Iberoamericana de Jóvenes Líderes por Email contacto@redijl.orgCAPTCHACommentsEste campo es un campo de validación y debe quedar sin cambios.
URL:https://conectaiberoamerica.com/event/grow-flow-introduccion-a-los-primeros-auxilios-psicologicos
CATEGORIES:Grow & Flow
ATTACH;FMTTYPE=image/jpeg:https://conectaiberoamerica.com/wp-content/uploads/2023/05/GROW-1.jpg
END:VEVENT
BEGIN:VEVENT
DTSTART;TZID=Europe/Madrid:20220928T190000
DTEND;TZID=Europe/Madrid:20220928T190000
DTSTAMP:20260424T133855
CREATED:20220924T111207Z
LAST-MODIFIED:20220924T141855Z
UID:3641-1664391600-1664391600@conectaiberoamerica.com
SUMMARY:Grow & Flow | "Educación Financiera para liderar tu futuro"
DESCRIPTION:Participa en nuestras sesiones Grow & Flow: un espacio destinado a tu crecimiento personal.\n\n\n  \n\n\nEn el actual contexto que estamos viviendo\, es cada vez más relevante la importancia de contar con conocimientos básicos sobre economía y finanzas personales\, lo cual nos pemitirá tener una mayor capacidad de tomar decisiones responsables y conscientes relacionadas con nuestro futuro. \n\nLa educación financiera es el conjunto de conocimientos que nos permiten administrar nuestros recursos financieros de forma correcta y entender el contexto económico en el que nos movemos. \nNo obstante\, la educación financiera constituye  una asignatura pendiente en gran parte de nuestros países: ¿por qué en pleno siglo XXI sigue siendo un tabú hablar de dinero? \n  \n\nTe invitamos a esta super sesión donde abordaremos consejo útiles para que aprendas a gestionar mejor tus finanzas personales\, así como elementos básicos relacionados al ahorro\, la inversión\, las tasas de interés y los seguros y ahorros para el retiro.\n\n¿Te apuntas?\n\n\n\n\n\n\n\n\n \n\n  \n\n\n\nImpartido por una gran experta: Alma Lilia López\, Gerente de Tesorería corporativa de Grupo Herdez\, una de las empresas más importantes del sector de alimentos en México. Alma es miembro de Conecta Iberoamérica y cuenta con 20 años de experiencia profesional en áreas financieras de compañías globales de sectores financiero\, manufactura\, construcción\, servicios\, alimentos y bebidas y retail. Alma tiene un diplomado en Educación Financiera y otro en Gestión del dinero y además está certificada como agente de cambio y con formación Six Sigma Green Belt.  \n\n\n\n\n\n\n\n  \nFecha: miercóles\,  28 de septiembre. \nHorario: 19h Madrid | 12h CDMX\, ogotá\, Quito\, Lima | 14h Buenos Aires \n\n\nInscríbete Aquí:\n\n                \n                        Nombre y Apellidos*\n                            \n                            \n                                                    \n                                                    Nombre\n                                                \n                            \n                            \n                                                    \n                                                    Apellidos\n                                                \n                            \n                        Email*\n                            \n                        País:Política de Protección de Datos* He leído y estoy de acuerdo con la política de protección de datosDe acuerdo con lo que dispone la normativa vigente en materia de protección de datos personales (Reglamento (UE) 2016/679 de 27 de abril de 2016 (RGPD)\, Ley Orgánica 15/1999 de 13 de diciembre\, de Protección de Datos de Carácter Personal\, y el Real Decreto 1720/2007\, de desarrollo de la LOPD\, le informamos que sus datos personales están incorporados en un fichero bajo nuestra responsabilidad\, para el tratamiento de datos de carácter personal\, con la finalidad de informarle de los eventos\, noticias\, novedades\, de Conecta Iberoamérica. Vd. como interesado directo\, tiene derecho de acceso\, rectificación\, cancelación y oposición al tratamiento de la información que le concierne y autoriza a que se pase a formar parte del fichero\, ante el cual puede ejercitar sus derechos y recibir información y publicidad de nuestra asociación\, relacionada con cualquier sector de actividad ya que nuestra actividad principal es dar soporte e información de toda índole a las microempresas\, sean o no asociadas.  Los derechos precitados podrán hacerse efectivos ante la Red Iberoamericana de Jóvenes Líderes por Email contacto@redijl.orgCAPTCHANameEste campo es un campo de validación y debe quedar sin cambios.
URL:https://conectaiberoamerica.com/event/grow-flow-educacion-financiera
CATEGORIES:Grow & Flow
ATTACH;FMTTYPE=image/png:https://conectaiberoamerica.com/wp-content/uploads/2022/09/GROW-8.png
END:VEVENT
BEGIN:VEVENT
DTSTART;TZID=Europe/Madrid:20220621T170000
DTEND;TZID=Europe/Madrid:20220621T180000
DTSTAMP:20260424T133855
CREATED:20220616T203040Z
LAST-MODIFIED:20220617T175618Z
UID:3049-1655830800-1655834400@conectaiberoamerica.com
SUMMARY:Grow & Flow | "Aprende a manejar el Estrés con prácticas de Meditación Avanzada"
DESCRIPTION:¡Un taller muy potente enfocado en tu bienestar!\n\n\n  \n\n\nLamentablemente hemos normalizado convivir con Estrés\, una de las afecciones más comunes de la vida moderna y con efectos nocivos para nuestra salud física y mental. \n  \nComo ya supones\, necesitamos ser más conscientes del cuidado de nuestra salud mental y nuestro bienestar\, es por ello que hemos decidido organizar esta sesión práctica y dinámica  donde adquirirás el conocimiento y la aplicación de estrategias para el manejo de estrés\, así como para prevenir enfermedades y mejorar tu calidad de vida \n\nEn este taller conocerás la técnica de energización pránica\, una práctica de meditación avanzada que consiste en reconocer el prana\, nuestra fuerza vital\, a través de la sensibilización de nuestro cuerpo. Una vez reconozcamos el prana\, lo energizamos para alcanzar un estado de bienestar total. \n\n Assegúrate de estar en un lugar tranquilo y con ropa cómoda  😉 \n\n  \n\n\n\n\n\n\n\n\n\n \nImpartido por una gran experta: Lic. Ximena Aguilar\, Certificada en Yoga y Minfulness.  \nTiene una Certificación INTERNACIONAL DE INSTRUCTOR DE YOGA\, Swami Vivekananda Yoga Anusandhana Samsthana\, India y Certificación SEP CONOCER\, ESTÁNDAR DE YOGA ESPECIALIZADOS (2021)\nMSc en Yogaterapia\, Swami Vivekananda Yoga Anusandhana Samsthana (2022) \n\n\n\n  \nFecha: martes\, 21 de junio. \nHorario: 18h Madrid | 11h CDMX | 12h Bogotá\, Quito\, Lima | 14h Buenos Aires \n\n\nInscríbete Aquí:\n\n                \n                        Nombre y Apellidos*\n                            \n                            \n                                                    \n                                                    Nombre\n                                                \n                            \n                            \n                                                    \n                                                    Apellidos\n                                                \n                            \n                        Email*\n                            \n                        País:Política de Protección de Datos* He leído y estoy de acuerdo con la política de protección de datosDe acuerdo con lo que dispone la normativa vigente en materia de protección de datos personales (Reglamento (UE) 2016/679 de 27 de abril de 2016 (RGPD)\, Ley Orgánica 15/1999 de 13 de diciembre\, de Protección de Datos de Carácter Personal\, y el Real Decreto 1720/2007\, de desarrollo de la LOPD\, le informamos que sus datos personales están incorporados en un fichero bajo nuestra responsabilidad\, para el tratamiento de datos de carácter personal\, con la finalidad de informarle de los eventos\, noticias\, novedades\, de Conecta Iberoamérica. Vd. como interesado directo\, tiene derecho de acceso\, rectificación\, cancelación y oposición al tratamiento de la información que le concierne y autoriza a que se pase a formar parte del fichero\, ante el cual puede ejercitar sus derechos y recibir información y publicidad de nuestra asociación\, relacionada con cualquier sector de actividad ya que nuestra actividad principal es dar soporte e información de toda índole a las microempresas\, sean o no asociadas.  Los derechos precitados podrán hacerse efectivos ante la Red Iberoamericana de Jóvenes Líderes por Email contacto@redijl.orgCAPTCHANameEste campo es un campo de validación y debe quedar sin cambios.
URL:https://conectaiberoamerica.com/event/grow-flow-aprende-a-manejar-el-estres-con-practicas-de-meditacion-avanzada
CATEGORIES:Grow & Flow
ATTACH;FMTTYPE=image/png:https://conectaiberoamerica.com/wp-content/uploads/2022/06/GROW-6.png
END:VEVENT
BEGIN:VEVENT
DTSTART;TZID=Europe/Madrid:20220218T190000
DTEND;TZID=Europe/Madrid:20220218T200000
DTSTAMP:20260424T133855
CREATED:20220129T225513Z
LAST-MODIFIED:20220214T180034Z
UID:1440-1645210800-1645214400@conectaiberoamerica.com
SUMMARY:Grow & Flow | "4 Pasos para simplificar tu vida\, tu trabajo y multiplicar tus resultados"
DESCRIPTION:¡Herramientas claves para aprovechar mejor tu tiempo y aumentar tu productividad!\n\n\n\n  \n\n\nDéjanos adivinar: Sueles estar en mil proyectos a la vez\, deseas que el día tenga más horas\, eres   multitasking y tienes tendencia a procrastinar\, ¿acertamos? \n ¡Pues que sepas que no estás solo/a ! Es lo que tiene ser jóvenes líderes en un contexto tan desafiante y que cada vez nos exige más compromiso  😉 \n\nPor eso te traemos esta super sesión\, para que aprendas a gestionar mejor tus proyectos\, tu vida y disfrutes de lo que te apasiona sin agobios\, ¿qué te parece? \n\n\n\n\n\n\n\n\n\n \nImpartido por un gran profesional: el Ing. Pedro Reymond: Experto en Productividad y gestión del tiempo y Autor del Libro: “Simplicidad brutal”. \n\n\n\n  \nFecha: viernes\, 18 de Febrero. \nHorario: 19h Madrid | 12h CDMX | 13h Bogotá\, Quito\, Lima | 15h Buenos Aires \n\n\nInscríbete Aquí:\n  \n\n                \n                        \n                            \n                        \n                        Nombre y Apellidos*\n                            \n                            \n                                                    \n                                                    Nombre\n                                                \n                            \n                            \n                                                    \n                                                    Apellidos\n                                                \n                            \n                        Email*\n                            \n                        País:Política de Protección de Datos* He leído y estoy de acuerdo con la política de protección de datosDe acuerdo con lo que dispone la normativa vigente en materia de protección de datos personales (Reglamento (UE) 2016/679 de 27 de abril de 2016 (RGPD)\, Ley Orgánica 15/1999 de 13 de diciembre\, de Protección de Datos de Carácter Personal\, y el Real Decreto 1720/2007\, de desarrollo de la LOPD\, le informamos que sus datos personales están incorporados en un fichero bajo nuestra responsabilidad\, para el tratamiento de datos de carácter personal\, con la finalidad de informarle de los eventos\, noticias\, novedades\, de Conecta Iberoamérica. Vd. como interesado directo\, tiene derecho de acceso\, rectificación\, cancelación y oposición al tratamiento de la información que le concierne y autoriza a que se pase a formar parte del fichero\, ante el cual puede ejercitar sus derechos y recibir información y publicidad de nuestra asociación\, relacionada con cualquier sector de actividad ya que nuestra actividad principal es dar soporte e información de toda índole a las microempresas\, sean o no asociadas.  Los derechos precitados podrán hacerse efectivos ante la Red Iberoamericana de Jóvenes Líderes por Email contacto@redijl.orgCAPTCHACommentsEste campo es un campo de validación y debe quedar sin cambios.
URL:https://conectaiberoamerica.com/event/productividad
CATEGORIES:Grow & Flow
ATTACH;FMTTYPE=image/png:https://conectaiberoamerica.com/wp-content/uploads/2022/01/GROW-2.png
END:VEVENT
END:VCALENDAR